BEGIN:VCALENDAR
VERSION:2.0
PRODID:-//hacksw/handcal//NONSGML v1.0//EN
BEGIN:VEVENT
SUMMARY:concours departemental = 5 medailles
UID:0a4c83c5-d6b8-48ff-be5d-50990193bd65
DTSTART:20180127T230000Z
DTEND:20180128T230000Z
LOCATION:Localisation   
CATEGORIES:Sportif
STATUS:
URL;VALUE=URI:https://archers-du-ternois.sportsregions.fr/evenements/2018/01/28/concours-departemental-5-medailles-1056179
END:VEVENT
END:VCALENDAR
