BEGIN:VCALENDAR
VERSION:2.0
PRODID:-//hacksw/handcal//NONSGML v1.0//EN
BEGIN:VEVENT
SUMMARY:pas d'entrainement en salle
UID:6e55a720-28ca-46f0-82d1-df64af0ac300
DTSTART:20180426T220000Z
DTEND:20180430T220000Z
LOCATION:Localisation   
CATEGORIES:Entrainement
STATUS:
URL;VALUE=URI:https://archers-du-ternois.sportsregions.fr/evenements/2018/04/27/pas-dentrainement-en-salle-1070863
END:VEVENT
END:VCALENDAR
