BEGIN:VCALENDAR
VERSION:2.0
PRODID:-//hacksw/handcal//NONSGML v1.0//EN
BEGIN:VEVENT
SUMMARY:pas d'entrainement en exterieur
UID:e83a0a43-5c15-4aef-ba7f-f3d0c7cf5884
DTSTART:20180518T220000Z
DTEND:20180519T220000Z
LOCATION:Localisation   
CATEGORIES:Entrainement
STATUS:
URL;VALUE=URI:https://archers-du-ternois.sportsregions.fr/evenements/2018/05/19/pas-dentrainement-en-exterieur-1070866
END:VEVENT
END:VCALENDAR
