BEGIN:VCALENDAR
VERSION:2.0
PRODID:-//hacksw/handcal//NONSGML v1.0//EN
BEGIN:VEVENT
SUMMARY:apres-midi recreative + barbecue(sur inscription)
UID:29d52ec0-5b94-4bd3-82fd-585eb6f43491
DTSTART:20180615T220000Z
DTEND:20180616T220000Z
LOCATION:Localisation   
CATEGORIES:Festif
STATUS:
URL;VALUE=URI:https://archers-du-ternois.sportsregions.fr/evenements/2018/06/16/apres-midi-recreative-barbecuesur-inscription-1070869
END:VEVENT
END:VCALENDAR
