BEGIN:VCALENDAR
VERSION:2.0
PRODID:-//hacksw/handcal//NONSGML v1.0//EN
BEGIN:VEVENT
SUMMARY:fin des entrainements en salle
UID:49e30482-4b86-4694-a3b5-319b7feb130a
DTSTART:20180622T220000Z
DTEND:20180623T220000Z
LOCATION:Localisation   
CATEGORIES:Sportif
STATUS:
URL;VALUE=URI:https://archers-du-ternois.sportsregions.fr/evenements/2018/06/23/fin-des-entrainements-en-salle-1092748
END:VEVENT
END:VCALENDAR
