BEGIN:VCALENDAR
VERSION:2.0
PRODID:-//hacksw/handcal//NONSGML v1.0//EN
BEGIN:VEVENT
SUMMARY:pas d'entrainement en exterieur
UID:5fb8a90a-a2bd-491c-9fce-455076eb2879
DTSTART:20180622T220000Z
DTEND:20180623T220000Z
LOCATION:Localisation   
CATEGORIES:Entrainement
STATUS:
URL;VALUE=URI:https://archers-du-ternois.sportsregions.fr/evenements/2018/06/23/pas-dentrainement-en-exterieur-1070867
END:VEVENT
END:VCALENDAR
