BEGIN:VCALENDAR
VERSION:2.0
PRODID:-//hacksw/handcal//NONSGML v1.0//EN
BEGIN:VEVENT
SUMMARY:championnat france federal , Marieline a  ruelle sur touvre
UID:eb243ae5-33f1-475e-9926-d6b80f801257
DTSTART:20180824T220000Z
DTEND:20180826T220000Z
LOCATION:Localisation   
CATEGORIES:Sportif
STATUS:
URL;VALUE=URI:https://archers-du-ternois.sportsregions.fr/evenements/2018/08/25/championnat-france-federal-marieline-a-ruelle-sur-touvre-1107932
END:VEVENT
END:VCALENDAR
