BEGIN:VCALENDAR
VERSION:2.0
PRODID:-//hacksw/handcal//NONSGML v1.0//EN
BEGIN:VEVENT
SUMMARY:reprise pour les competiteurs
UID:a1c9cd16-1a96-4be9-b1f7-037952c9949b
DTSTART:20180903T220000Z
DTEND:20180904T220000Z
LOCATION:Localisation   
CATEGORIES:Sportif
STATUS:
URL;VALUE=URI:https://archers-du-ternois.sportsregions.fr/evenements/2018/09/04/reprise-pour-les-competiteurs-1107929
END:VEVENT
END:VCALENDAR
