BEGIN:VCALENDAR
VERSION:2.0
PRODID:-//hacksw/handcal//NONSGML v1.0//EN
BEGIN:VEVENT
SUMMARY:reprise de l'ecole de tir
UID:2c3a2eae-f448-40ab-b181-8f68c255a84c
DTSTART:20180904T220000Z
DTEND:20180905T220000Z
LOCATION:Localisation   
CATEGORIES:Sportif
STATUS:
URL;VALUE=URI:https://archers-du-ternois.sportsregions.fr/evenements/2018/09/05/reprise-de-lecole-de-tir-1107928
END:VEVENT
END:VCALENDAR
