BEGIN:VCALENDAR
VERSION:2.0
PRODID:-//hacksw/handcal//NONSGML v1.0//EN
BEGIN:VEVENT
SUMMARY:pas de tir a l'arc
UID:7422af35-5b6b-4f25-804f-ce4130dd9854
DTSTART:20180914T220000Z
DTEND:20180915T220000Z
LOCATION:Localisation   
CATEGORIES:Sportif
STATUS:
URL;VALUE=URI:https://archers-du-ternois.sportsregions.fr/evenements/2018/09/15/pas-de-tir-a-larc-1107930
END:VEVENT
END:VCALENDAR
