BEGIN:VCALENDAR
VERSION:2.0
PRODID:-//hacksw/handcal//NONSGML v1.0//EN
BEGIN:VEVENT
SUMMARY:pas de tir a l'arc
UID:1ec3d4d5-2954-4675-91ab-c00ca2e66b6a
DTSTART:20180921T220000Z
DTEND:20180922T220000Z
LOCATION:Localisation   
CATEGORIES:Sportif
STATUS:
URL;VALUE=URI:https://archers-du-ternois.sportsregions.fr/evenements/2018/09/22/pas-de-tir-a-larc-1107931
END:VEVENT
END:VCALENDAR
