BEGIN:VCALENDAR
VERSION:2.0
PRODID:-//hacksw/handcal//NONSGML v1.0//EN
BEGIN:VEVENT
SUMMARY:assemblee generale / pas entrainement
UID:aa636958-4313-42f3-af6d-98a3c69813ec
DTSTART:20181020T130000Z
DTEND:20181020T150000Z
LOCATION:Localisation   
CATEGORIES:Sportif
STATUS:
URL;VALUE=URI:https://archers-du-ternois.sportsregions.fr/evenements/2018/10/20/assemblee-generale-pas-entrainement-1149115
END:VEVENT
END:VCALENDAR
