BEGIN:VCALENDAR
VERSION:2.0
PRODID:-//hacksw/handcal//NONSGML v1.0//EN
BEGIN:VEVENT
SUMMARY:pas d'entrainement
UID:69711a5c-0970-4779-8784-1390e38cc0ea
DTSTART:20181113T230000Z
DTEND:20181114T230000Z
LOCATION:Localisation   
CATEGORIES:Sportif
STATUS:
URL;VALUE=URI:https://archers-du-ternois.sportsregions.fr/evenements/2018/11/14/pas-dentrainement-1169818
END:VEVENT
END:VCALENDAR
