BEGIN:VCALENDAR
VERSION:2.0
PRODID:-//hacksw/handcal//NONSGML v1.0//EN
BEGIN:VEVENT
SUMMARY:pas d'entrainement
UID:7dc78181-4f17-465c-a75e-ccda311e4e5c
DTSTART:20181120T230000Z
DTEND:20181121T230000Z
LOCATION:Localisation   
CATEGORIES:Sportif
STATUS:
URL;VALUE=URI:https://archers-du-ternois.sportsregions.fr/evenements/2018/11/21/pas-dentrainement-1169819
END:VEVENT
END:VCALENDAR
