BEGIN:VCALENDAR
VERSION:2.0
PRODID:-//hacksw/handcal//NONSGML v1.0//EN
BEGIN:VEVENT
SUMMARY:competition st pol
UID:45d89ded-6a0d-425c-b7ed-e892f40c19f3
DTSTART:20181123T230000Z
DTEND:20181125T230000Z
LOCATION:Localisation   
CATEGORIES:Sportif
STATUS:
URL;VALUE=URI:https://archers-du-ternois.sportsregions.fr/evenements/2018/11/24/competition-st-pol-1169820
END:VEVENT
END:VCALENDAR
