BEGIN:VCALENDAR
VERSION:2.0
PRODID:-//hacksw/handcal//NONSGML v1.0//EN
BEGIN:VEVENT
SUMMARY:pas d'entrainement
UID:9c90e220-9060-4eee-bd4a-1504e93d2c2f
DTSTART:20181203T230000Z
DTEND:20181205T230000Z
LOCATION:Localisation   
CATEGORIES:Sportif
STATUS:
URL;VALUE=URI:https://archers-du-ternois.sportsregions.fr/evenements/2018/12/04/pas-dentrainement-1169821
END:VEVENT
END:VCALENDAR
