BEGIN:VCALENDAR
VERSION:2.0
PRODID:-//hacksw/handcal//NONSGML v1.0//EN
BEGIN:VEVENT
SUMMARY:telethon
UID:55cd4cbd-5fbc-4c43-9fbd-2ea63acff627
DTSTART:20181207T230000Z
DTEND:20181208T230000Z
LOCATION:Localisation   
CATEGORIES:Caritatif
STATUS:
URL;VALUE=URI:https://archers-du-ternois.sportsregions.fr/evenements/2018/12/08/telethon-1176600
END:VEVENT
END:VCALENDAR
