BEGIN:VCALENDAR
VERSION:2.0
PRODID:-//hacksw/handcal//NONSGML v1.0//EN
BEGIN:VEVENT
SUMMARY:gouter de noel sport adapte
UID:0c8b2c18-c6c5-4ef2-91b9-cfa2f0c63ac4
DTSTART:20181219T230000Z
DTEND:20181220T230000Z
LOCATION:Localisation   
CATEGORIES:Festif
STATUS:
URL;VALUE=URI:https://archers-du-ternois.sportsregions.fr/evenements/2018/12/20/gouter-de-noel-sport-adapte-1179537
END:VEVENT
END:VCALENDAR
