BEGIN:VCALENDAR
VERSION:2.0
PRODID:-//hacksw/handcal//NONSGML v1.0//EN
BEGIN:VEVENT
SUMMARY:gouter de noel  
UID:f3b5a2c0-ecbe-4536-9fb2-7ac3112b950c
DTSTART:20181221T230000Z
DTEND:20181222T230000Z
LOCATION:Localisation   
CATEGORIES:Festif
STATUS:
URL;VALUE=URI:https://archers-du-ternois.sportsregions.fr/evenements/2018/12/22/gouter-de-noel-1179539
END:VEVENT
END:VCALENDAR
