BEGIN:VCALENDAR
VERSION:2.0
PRODID:-//hacksw/handcal//NONSGML v1.0//EN
BEGIN:VEVENT
SUMMARY:fete de la st Sebastien sport adapte
UID:6e9c7d5f-f4c8-4a8a-88bc-62a76ac7787c
DTSTART:20190116T230000Z
DTEND:20190117T230000Z
LOCATION:Localisation   
CATEGORIES:Festif
STATUS:
URL;VALUE=URI:https://archers-du-ternois.sportsregions.fr/evenements/2019/01/17/fete-de-la-st-sebastien-sport-adapte-1179541
END:VEVENT
END:VCALENDAR
