BEGIN:VCALENDAR
VERSION:2.0
PRODID:-//hacksw/handcal//NONSGML v1.0//EN
BEGIN:VEVENT
SUMMARY:fete de la st Sebastien 
UID:ef6ad23e-731f-4606-8823-f1377f3e6081
DTSTART:20190118T230000Z
DTEND:20190119T230000Z
LOCATION:Localisation   
CATEGORIES:Sportif
STATUS:
DESCRIPTION:<p>galette des rois</p>
 
URL;VALUE=URI:https://archers-du-ternois.sportsregions.fr/evenements/2019/01/19/fete-de-la-st-sebastien-1179542
END:VEVENT
END:VCALENDAR
