BEGIN:VCALENDAR
VERSION:2.0
PRODID:-//hacksw/handcal//NONSGML v1.0//EN
BEGIN:VEVENT
SUMMARY:sortie au chateau de Valfosse
UID:3a27d000-dfbc-4665-9fd7-e2e11c33512e
DTSTART:20190524T220000Z
DTEND:20190525T220000Z
LOCATION:Localisation   
CATEGORIES:Sportif
STATUS:
DESCRIPTION:<p>ouvert a tous les membres et parents. une
 participation est demandeepar tireur et pour le repas du midi</p>
 
URL;VALUE=URI:https://archers-du-ternois.sportsregions.fr/evenements/2019/05/25/sortie-au-chateau-de-valfosse-1179544
END:VEVENT
END:VCALENDAR
