BEGIN:VCALENDAR
VERSION:2.0
PRODID:-//hacksw/handcal//NONSGML v1.0//EN
BEGIN:VEVENT
SUMMARY:apres midi recreative
UID:b586e544-f15c-4a55-a571-1bf9a8b8f83c
DTSTART:20190614T220000Z
DTEND:20190615T220000Z
LOCATION:Salle de sport Leo Lagrange rue Leo Lagrange 62130 Saint Pol sur Ternoise
CATEGORIES:Sportif
STATUS:
DESCRIPTION:<p>tir ludique + remise de recompenses+
 barbecue </p>
 
 <p>sur inscription</p>
 
URL;VALUE=URI:https://archers-du-ternois.sportsregions.fr/evenements/2019/06/15/apres-midi-recreative-1179559
END:VEVENT
END:VCALENDAR
