BEGIN:VCALENDAR
VERSION:2.0
PRODID:-//hacksw/handcal//NONSGML v1.0//EN
BEGIN:VEVENT
SUMMARY:concours st pol 
UID:65cc6750-9cfb-4b0e-9dc7-f4fb5d6776b7
DTSTART:20190629T220000Z
DTEND:20190630T220000Z
LOCATION:Localisation stade la cavee 62130 st pol sur ternoise
CATEGORIES:Sportif
STATUS:
URL;VALUE=URI:https://archers-du-ternois.sportsregions.fr/evenements/2019/06/30/concours-st-pol-1179560
END:VEVENT
END:VCALENDAR
