BEGIN:VCALENDAR
VERSION:2.0
PRODID:-//hacksw/handcal//NONSGML v1.0//EN
BEGIN:VEVENT
SUMMARY:reprise des seances d'entrainement
UID:9276ed72-4d8b-41fe-a5f0-7e175c4e4612
DTSTART:20190903T163000Z
DTEND:20190903T220000Z
LOCATION:Localisation   
CATEGORIES:Sportif
STATUS:
URL;VALUE=URI:https://archers-du-ternois.sportsregions.fr/evenements/2019/09/03/reprise-des-seances-dentrainement-1269535
END:VEVENT
END:VCALENDAR
