BEGIN:VCALENDAR
VERSION:2.0
PRODID:-//hacksw/handcal//NONSGML v1.0//EN
BEGIN:VEVENT
SUMMARY:forum des associations
UID:11691993-91b3-4ff7-85d2-ef7143c0594d
DTSTART:20190913T220000Z
DTEND:20190914T220000Z
LOCATION:Localisation   
CATEGORIES:Manifestation
STATUS:
DESCRIPTION:<p>il n'y aura pas d'entrainement ce jour la mais vous
 etes les biensvenus au forum bien sur, venez nombreux!!!! </p>
 
URL;VALUE=URI:https://archers-du-ternois.sportsregions.fr/evenements/2019/09/14/forum-des-associations-1191687
END:VEVENT
END:VCALENDAR
