BEGIN:VCALENDAR
VERSION:2.0
PRODID:-//hacksw/handcal//NONSGML v1.0//EN
BEGIN:VEVENT
SUMMARY:pas d'entrainement, salon des oiseaux
UID:10f86f09-b221-4b1f-8f3e-edeee579ed32
DTSTART:20191021T220000Z
DTEND:20191027T220000Z
LOCATION:Localisation   
CATEGORIES:Sportif
STATUS:
URL;VALUE=URI:https://archers-du-ternois.sportsregions.fr/evenements/2019/10/22/pas-dentrainement-salon-des-oiseaux-1191690
END:VEVENT
END:VCALENDAR
