BEGIN:VCALENDAR
VERSION:2.0
PRODID:-//hacksw/handcal//NONSGML v1.0//EN
BEGIN:VEVENT
SUMMARY:assemblee generale
UID:4c213632-49de-4f54-a389-77b99edd4d6e
DTSTART:20191026T130000Z
DTEND:20191026T220000Z
LOCATION:Localisation   
CATEGORIES:Sportif
STATUS:
URL;VALUE=URI:https://archers-du-ternois.sportsregions.fr/evenements/2019/10/26/assemblee-generale-1269538
END:VEVENT
END:VCALENDAR
