BEGIN:VCALENDAR
VERSION:2.0
PRODID:-//hacksw/handcal//NONSGML v1.0//EN
BEGIN:VEVENT
SUMMARY:pas d'entrainement, repas dansant football
UID:10bff250-d58f-454d-8704-af932c2d9207
DTSTART:20191027T230000Z
DTEND:20191104T230000Z
LOCATION:Localisation   
CATEGORIES:Sportif
STATUS:
URL;VALUE=URI:https://archers-du-ternois.sportsregions.fr/evenements/2019/10/28/pas-dentrainement-repas-dansant-football-1191691
END:VEVENT
END:VCALENDAR
