BEGIN:VCALENDAR
VERSION:2.0
PRODID:-//hacksw/handcal//NONSGML v1.0//EN
BEGIN:VEVENT
SUMMARY:parcours moteur  pas de cours 
UID:407640f7-000a-44e2-84a2-d668e6a49868
DTSTART:20191119T230000Z
DTEND:20191120T230000Z
LOCATION:Localisation   
CATEGORIES:Sportif
STATUS:
URL;VALUE=URI:https://archers-du-ternois.sportsregions.fr/evenements/2019/11/20/parcours-moteur-pas-de-cours-1314696
END:VEVENT
END:VCALENDAR
