BEGIN:VCALENDAR
VERSION:2.0
PRODID:-//hacksw/handcal//NONSGML v1.0//EN
BEGIN:VEVENT
SUMMARY:concours salle
UID:fabcc982-dc85-4d8d-9d41-08adf079aa6c
DTSTART:20191122T230000Z
DTEND:20191124T230000Z
LOCATION:Salle de sport Leo Lagrange rue Leo Lagrange 62130 Saint Pol sur Ternoise
CATEGORIES:Sportif
STATUS:
URL;VALUE=URI:https://archers-du-ternois.sportsregions.fr/evenements/2019/11/23/concours-salle-1321272
END:VEVENT
END:VCALENDAR
