BEGIN:VCALENDAR
VERSION:2.0
PRODID:-//hacksw/handcal//NONSGML v1.0//EN
BEGIN:VEVENT
SUMMARY:concours st pol en salle (pas de cours) 
UID:569a8267-8379-42ec-9284-b2b01841863d
DTSTART:20191122T230000Z
DTEND:20191124T230000Z
LOCATION:Localisation   
CATEGORIES:Sportif
STATUS:
URL;VALUE=URI:https://archers-du-ternois.sportsregions.fr/evenements/2019/11/23/concours-st-pol-en-salle-pas-de-cours-1314697
END:VEVENT
END:VCALENDAR
