BEGIN:VCALENDAR
VERSION:2.0
PRODID:-//hacksw/handcal//NONSGML v1.0//EN
BEGIN:VEVENT
SUMMARY:cpht sport adapte a Lens
UID:c2cd6fa2-3483-44e3-905f-048d98ae89bc
DTSTART:20191201T230000Z
DTEND:20191202T230000Z
LOCATION:Localisation   
CATEGORIES:Sportif
STATUS:
URL;VALUE=URI:https://archers-du-ternois.sportsregions.fr/evenements/2019/12/02/cpht-sport-adapte-a-lens-1314699
END:VEVENT
END:VCALENDAR
