BEGIN:VCALENDAR
VERSION:2.0
PRODID:-//hacksw/handcal//NONSGML v1.0//EN
BEGIN:VEVENT
SUMMARY:cpht regional sport adapte a Berck
UID:d0c50209-5884-4897-866f-5d54335e36fa
DTSTART:20191217T230000Z
DTEND:20191218T230000Z
LOCATION:Localisation   
CATEGORIES:Sportif
STATUS:
URL;VALUE=URI:https://archers-du-ternois.sportsregions.fr/evenements/2019/12/18/cpht-regional-sport-adapte-a-berck-1314700
END:VEVENT
END:VCALENDAR
