BEGIN:VCALENDAR
VERSION:2.0
PRODID:-//hacksw/handcal//NONSGML v1.0//EN
BEGIN:VEVENT
SUMMARY:gouter noel sport adapte
UID:bf3dbdd2-da29-4d7d-9e95-c77324c6af87
DTSTART:20191218T230000Z
DTEND:20191219T230000Z
LOCATION:Localisation   
CATEGORIES:Sportif
STATUS:
URL;VALUE=URI:https://archers-du-ternois.sportsregions.fr/evenements/2019/12/19/gouter-noel-sport-adapte-1314701
END:VEVENT
END:VCALENDAR
