BEGIN:VCALENDAR
VERSION:2.0
PRODID:-//hacksw/handcal//NONSGML v1.0//EN
BEGIN:VEVENT
SUMMARY:gouter de noel
UID:4597de7b-351d-41ef-9615-135311a41d97
DTSTART:20191220T230000Z
DTEND:20191221T230000Z
LOCATION:Localisation   
CATEGORIES:Sportif
STATUS:
URL;VALUE=URI:https://archers-du-ternois.sportsregions.fr/evenements/2019/12/21/gouter-de-noel-1314702
END:VEVENT
END:VCALENDAR
