BEGIN:VCALENDAR
VERSION:2.0
PRODID:-//hacksw/handcal//NONSGML v1.0//EN
BEGIN:VEVENT
SUMMARY:st sebastien et galette sport adapte
UID:1c10a560-3e42-46dd-85e6-33e53e2b755e
DTSTART:20200115T230000Z
DTEND:20200116T230000Z
LOCATION:Localisation   
CATEGORIES:Festif
STATUS:
URL;VALUE=URI:https://archers-du-ternois.sportsregions.fr/evenements/2020/01/16/st-sebastien-et-galette-sport-adapte-1314703
END:VEVENT
END:VCALENDAR
