BEGIN:VCALENDAR
VERSION:2.0
PRODID:-//hacksw/handcal//NONSGML v1.0//EN
BEGIN:VEVENT
SUMMARY:st sebastien et galette
UID:14230235-f2d7-45cb-880c-68be1701b76a
DTSTART:20200117T230000Z
DTEND:20200118T230000Z
LOCATION:Localisation   
CATEGORIES:Festif
STATUS:
URL;VALUE=URI:https://archers-du-ternois.sportsregions.fr/evenements/2020/01/18/st-sebastien-et-galette-1314704
END:VEVENT
END:VCALENDAR
