BEGIN:VCALENDAR
VERSION:2.0
PRODID:-//hacksw/handcal//NONSGML v1.0//EN
BEGIN:VEVENT
SUMMARY:championnat des hauts de france salle coubertin
UID:35e0e7dd-84f4-4b70-89e3-7bcd8fb1fa94
DTSTART:20200206T230000Z
DTEND:20200209T230000Z
LOCATION:Localisation   
CATEGORIES:Sportif
STATUS:
URL;VALUE=URI:https://archers-du-ternois.sportsregions.fr/evenements/2020/02/07/championnat-des-hauts-de-france-salle-coubertin-1314705
END:VEVENT
END:VCALENDAR
