BEGIN:VCALENDAR
VERSION:2.0
PRODID:-//hacksw/handcal//NONSGML v1.0//EN
BEGIN:VEVENT
SUMMARY:competition interne pour tous
UID:c6e3f466-b565-4b5b-a8c5-57361f65825d
DTSTART:20200313T230000Z
DTEND:20200314T230000Z
LOCATION:Localisation   
CATEGORIES:Sportif
STATUS:
URL;VALUE=URI:https://archers-du-ternois.sportsregions.fr/evenements/2020/03/14/competition-interne-pour-tous-1314706
END:VEVENT
END:VCALENDAR
