BEGIN:VCALENDAR
VERSION:2.0
PRODID:-//hacksw/handcal//NONSGML v1.0//EN
BEGIN:VEVENT
SUMMARY:chateau de valfosse
UID:e87352d5-8fb2-4e40-8001-0aa91953deed
DTSTART:20200522T220000Z
DTEND:20200523T220000Z
LOCATION:Localisation   
CATEGORIES:Sportif
STATUS:
URL;VALUE=URI:https://archers-du-ternois.sportsregions.fr/evenements/2020/05/23/chateau-de-valfosse-1314707
END:VEVENT
END:VCALENDAR
