BEGIN:VCALENDAR
VERSION:2.0
PRODID:-//hacksw/handcal//NONSGML v1.0//EN
BEGIN:VEVENT
SUMMARY:apres midi recre et barbecue
UID:4ff109f3-adfb-401b-934e-d6b79d25a1c1
DTSTART:20200612T220000Z
DTEND:20200613T220000Z
LOCATION:Localisation   
CATEGORIES:Festif
STATUS:
URL;VALUE=URI:https://archers-du-ternois.sportsregions.fr/evenements/2020/06/13/apres-midi-recre-et-barbecue-1314708
END:VEVENT
END:VCALENDAR
