BEGIN:VCALENDAR
VERSION:2.0
PRODID:-//hacksw/handcal//NONSGML v1.0//EN
BEGIN:VEVENT
SUMMARY:concours exterieur stade de la cavee
UID:94037292-0a57-4213-961b-ece19d795bf9
DTSTART:20200620T220000Z
DTEND:20200621T220000Z
LOCATION:Localisation   
CATEGORIES:Sportif
STATUS:
URL;VALUE=URI:https://archers-du-ternois.sportsregions.fr/evenements/2020/06/21/concours-exterieur-stade-de-la-cavee-1314710
END:VEVENT
END:VCALENDAR
