BEGIN:VCALENDAR
VERSION:2.0
PRODID:-//hacksw/handcal//NONSGML v1.0//EN
BEGIN:VEVENT
SUMMARY:Remise officielle des nouveaux t-shirts du club
UID:6b0f84b4-3c50-4331-aa2d-a45d5829d2c4
DTSTART:20230114T143000Z
DTEND:20230114T153000Z
LOCATION:Localisation   
CATEGORIES:Administratif
STATUS:
DESCRIPTION:<p>Nous avons eu l'honneur de remettre aux licencies du
 club, le nouveau maillot avec la presence de Mme Vasseur, Maire de
 Saint-Pol-sur-Ternoise, de Mr Ricart Marc, adjoint aux sports, de Mr
 Vera president de la commission du benevolat.</p>
 
 <p> </p>
 
URL;VALUE=URI:https://archers-du-ternois.sportsregions.fr/evenements/2023/01/14/remise-officielle-des-nouveaux-t-shirts-du-club-1762428
END:VEVENT
END:VCALENDAR
